BEGIN:VCALENDAR
VERSION:2.0
PRODID:spatie/icalendar-generator
DESCRIPTION:Events from N&amp;amp\;H Rose Croix
X-WR-CALDESC:Events from N&amp;amp\;H Rose Croix
REFRESH-INTERVAL;VALUE=DURATION:PT1440M
X-PUBLISHED-TTL:PT1440M
BEGIN:VTIMEZONE
TZID:Europe/London
BEGIN:STANDARD
DTSTART:20251026T020000Z
TZOFFSETFROM:+0100
TZOFFSETTO:+0000
END:STANDARD
BEGIN:DAYLIGHT
DTSTART:20260329T010000Z
TZOFFSETFROM:+0000
TZOFFSETTO:+0100
END:DAYLIGHT
BEGIN:STANDARD
DTSTART:20261025T020000Z
TZOFFSETFROM:+0100
TZOFFSETTO:+0000
END:STANDARD
END:VTIMEZONE
BEGIN:VTIMEZONE
TZID:UTC
BEGIN:STANDARD
DTSTART:20250728T152018Z
TZOFFSETFROM:+0000
TZOFFSETTO:+0000
END:STANDARD
END:VTIMEZONE
BEGIN:VEVENT
UID:58-47
DTSTAMP:20260424T152018Z
SUMMARY:Dr Crucefix CRC 810
LOCATION:Peterborough Masonic Centre 127 Ellindon\, Bretton Peterborough Ca
 mbs PE3 8RD
ORGANIZER;CN=John Booth:MAILTO:jbooth1068@aol.com
DTSTART;TZID=Europe/London:20260520T181500
DTEND;TZID=Europe/London:20260520T213000
X-ALT-DESC;FMTTYPE=TEXT/HTML:
CATEGORIES:Regular Meeting
URL;VALUE=URI:http://www.northants-huntsrosecroix.org.uk/mc-events/dr-cruce
 fix-crc-810-3/
METHOD:PUBLISH
END:VEVENT
END:VCALENDAR