BEGIN:VCALENDAR
VERSION:2.0
PRODID:spatie/icalendar-generator
DESCRIPTION:Events from N&amp;amp\;H Rose Croix
X-WR-CALDESC:Events from N&amp;amp\;H Rose Croix
REFRESH-INTERVAL;VALUE=DURATION:PT1440M
X-PUBLISHED-TTL:PT1440M
BEGIN:VTIMEZONE
TZID:Europe/London
BEGIN:STANDARD
DTSTART:20251026T020000Z
TZOFFSETFROM:+0100
TZOFFSETTO:+0000
END:STANDARD
BEGIN:DAYLIGHT
DTSTART:20260329T010000Z
TZOFFSETFROM:+0000
TZOFFSETTO:+0100
END:DAYLIGHT
END:VTIMEZONE
BEGIN:VTIMEZONE
TZID:UTC
BEGIN:STANDARD
DTSTART:20250726T105140Z
TZOFFSETFROM:+0000
TZOFFSETTO:+0000
END:STANDARD
END:VTIMEZONE
BEGIN:VEVENT
UID:42-32
DTSTAMP:20260422T105140Z
SUMMARY:St Lawrence the Martyr CRC 860
LOCATION:Towcester Masonic Centre 3 Northampton Road  Towcester Northants N
 N12 6LD
ORGANIZER;CN=John Booth:MAILTO:jbooth1068@aol.com
DTSTART;TZID=Europe/London:20260223T180000
DTEND;TZID=Europe/London:20260223T220000
X-ALT-DESC;FMTTYPE=TEXT/HTML:
CATEGORIES:Regular Meeting
URL;VALUE=URI:http://www.northants-huntsrosecroix.org.uk/mc-events/st-lawre
 nce-the-martyr-crc-860-2/
METHOD:PUBLISH
END:VEVENT
END:VCALENDAR