BEGIN:VCALENDAR
VERSION:2.0
PRODID:spatie/icalendar-generator
DESCRIPTION:Events from N&amp;amp\;H Rose Croix
X-WR-CALDESC:Events from N&amp;amp\;H Rose Croix
REFRESH-INTERVAL;VALUE=DURATION:PT1440M
X-PUBLISHED-TTL:PT1440M
BEGIN:VTIMEZONE
TZID:Europe/London
BEGIN:STANDARD
DTSTART:20251026T020000Z
TZOFFSETFROM:+0100
TZOFFSETTO:+0000
END:STANDARD
BEGIN:DAYLIGHT
DTSTART:20260329T010000Z
TZOFFSETFROM:+0000
TZOFFSETTO:+0100
END:DAYLIGHT
END:VTIMEZONE
BEGIN:VTIMEZONE
TZID:UTC
BEGIN:STANDARD
DTSTART:20250726T092953Z
TZOFFSETFROM:+0000
TZOFFSETTO:+0000
END:STANDARD
END:VTIMEZONE
BEGIN:VEVENT
UID:41-31
DTSTAMP:20260422T092953Z
SUMMARY:David Earl of Huntingdon CRC 201
LOCATION:Huntingdon Masonic Hall Priory House\,5 Sovereign Court Lancaster 
 Way\, Ermin Business Park Huntingdon  PE29 6XU
ORGANIZER;CN=John Booth:MAILTO:jbooth1068@aol.com
DTSTART;TZID=Europe/London:20260210T174500
DTEND;TZID=Europe/London:20260210T213000
X-ALT-DESC;FMTTYPE=TEXT/HTML:
CATEGORIES:Enthronement
URL;VALUE=URI:http://www.northants-huntsrosecroix.org.uk/mc-events/david-ea
 rl-of-huntingdon-crc-201-3/
METHOD:PUBLISH
END:VEVENT
END:VCALENDAR